BEGIN:VCALENDAR
VERSION:2.0
PRODID:-//MyApp//NONSGML v1.0//EN
CALSCALE:GREGORIAN
METHOD:PUBLISH
X-WR-CALNAME:ITEX Kalender
BEGIN:VTIMEZONE
TZID:Europe/Stockholm
X-LIC-LOCATION:Europe/Stockholm
BEGIN:DAYLIGHT
TZOFFSETFROM:+0100
TZOFFSETTO:+0200
TZNAME:CEST
DTSTART:19700329T020000
RRULE:FREQ=YEARLY;BYMONTH=3;BYDAY=-1SU
END:DAYLIGHT
BEGIN:STANDARD
TZOFFSETFROM:+0200
TZOFFSETTO:+0100
TZNAME:CET
DTSTART:19701027T030000
RRULE:FREQ=YEARLY;BYMONTH=10;BYDAY=-1SU
END:STANDARD
END:VTIMEZONE
BEGIN:VEVENT
UID:69e7409fa7843@example.com
SUMMARY:Grilldag hos ITEX Rental
DESCRIPTION:Träffas och mingla
LOCATION:Missonsvägen 58
DTSTART;TZID=Europe/Stockholm:20250423T100000
DTEND;TZID=Europe/Stockholm:20250423T120000
ORGANIZER:ITEX Rental
END:VEVENT
END:VCALENDAR
